BEGIN:VCALENDAR
VERSION:2.0
METHOD:PUBLISH
X-WR-CALNAME;VALUE=TEXT:
PRODID:-//Drupal iCal API//EN
BEGIN:VEVENT
UID:wfbb-event-1747
DTSTAMP:20260115T085310Z
DTSTART:20210119T140000Z
DTEND:20210119T160000Z
SUMMARY:Digitaler Messestand - wie geht das?
DESCRIPTION:Ein virtuelles Coaching für Aussteller und solche, die es werden wollen.
LOCATION:online
URL:https://www.kompetenzzentrum-cottbus.digital/de/hauptnavigation/veranstaltungen.html
END:VEVENT
END:VCALENDAR
