BEGIN:VCALENDAR
VERSION:2.0
METHOD:PUBLISH
X-WR-CALNAME;VALUE=TEXT:
PRODID:-//Drupal iCal API//EN
BEGIN:VEVENT
UID:wfbb-event-2389
DTSTAMP:20241118T145923Z
DTSTART:20211007T110000Z
DTEND:20211007T153000Z
SUMMARY:Bottom-up statt Top-down – Fachkarrieren neu gedacht
DESCRIPTION:Die InnoVET-Fachtagung „Bottom-up statt Top-down – Fachkarrieren neu gedacht“ hat zum Ziel, die Vielfalt der Herausforderungen auf dem Weg zu individuellen Karrierewegen deutlich zu machen.
 
LOCATION:
URL:https://www.digital-agentur.de/veranstaltungen/innovet-2021
END:VEVENT
END:VCALENDAR
