BEGIN:VCALENDAR
VERSION:2.0
METHOD:PUBLISH
X-WR-CALNAME;VALUE=TEXT:
PRODID:-//Drupal iCal API//EN
BEGIN:VEVENT
UID:wfbb-event-2659
DTSTAMP:20241118T145925Z
DTSTART:20220831T080000Z
DTEND:20220831T140000Z
SUMMARY:10. Clusterkonferenz Metall
DESCRIPTION:Die 10. Clusterkonferenz Metall mit dem Titel "Das Cluster Metall in Brandenburg – industrielle Transformation gestalten, Zukunft sichern" findet in diesem Jahr im 31. August 2022 in Brandenburg an der Havel statt. 
LOCATION:Technische Hochschule Brandenburg Magdeburger Str. 50 14770 Brandenburg an der Havel
URL:
END:VEVENT
END:VCALENDAR
