BEGIN:VCALENDAR
VERSION:2.0
METHOD:PUBLISH
X-WR-CALNAME;VALUE=TEXT:
PRODID:-//Drupal iCal API//EN
BEGIN:VEVENT
UID:wfbb-event-2663
DTSTAMP:20241118T145925Z
DTSTART:20220428T100000Z
DTEND:20220428T110000Z
SUMMARY:Digitaler Stammtisch Metall
DESCRIPTION:Nehmen Sie in Ihrer Mittagspause am ersten Digitalen Stammtisch Metall teil und erfahren Sie mehr über die Einsatzmöglichkeiten von Künstlicher Intelligenz und Kooperationsmöglichkeiten mit der TH Wildau.
LOCATION:online
URL:
END:VEVENT
END:VCALENDAR
