BEGIN:VCALENDAR
VERSION:2.0
METHOD:PUBLISH
X-WR-CALNAME;VALUE=TEXT:
PRODID:-//Drupal iCal API//EN
BEGIN:VEVENT
UID:wfbb-event-2881
DTSTAMP:20240913T114340Z
DTSTART:20220629T130000Z
DTEND:20220629T150000Z
SUMMARY:IT-Sicherheit im Handwerk (hybrid)
DESCRIPTION:Wie sehen Angriffe per Email aus? Eine praktische Demonstration zur Sensibilisierung nicht nur für KMU!
LOCATION:Handwerkskammer Frankfurt (Oder) - Region Ostbrandenburg und Online Bahnhofstraße 12 15230 Frankfurt (Oder)
URL:https://www.hwk-ff.de/wp-content/uploads/2022/01/IT-Sicherheitssprechtag_Anmeldung.pdf
END:VEVENT
END:VCALENDAR
