BEGIN:VCALENDAR
VERSION:2.0
METHOD:PUBLISH
X-WR-CALNAME;VALUE=TEXT:
PRODID:-//Drupal iCal API//EN
BEGIN:VEVENT
UID:wfbb-event-3012
DTSTAMP:20240913T114340Z
DTSTART:20221013T060000Z
DTEND:20221013T140000Z
SUMMARY:Zukunftsdonnerstag
DESCRIPTION:Nach einer Sommerpause findet auch in der zweiten Jahreshälfte 2022 wieder unser regelmäßiges Veranstaltungsformat „Zukunftsdonnerstag“ statt. 
LOCATION:online
URL:https://www.zukunftszentrum-brandenburg.de/zukunftsdonnerstag-2022-programmplanung-august-bis-dezember-2022/
END:VEVENT
END:VCALENDAR
