BEGIN:VCALENDAR
VERSION:2.0
METHOD:PUBLISH
X-WR-CALNAME;VALUE=TEXT:
PRODID:-//Drupal iCal API//EN
BEGIN:VEVENT
UID:wfbb-event-3040
DTSTAMP:20241118T145942Z
DTSTART:20221118T090000Z
DTEND:20221118T110000Z
SUMMARY:KMU - Sprechstunde: Digitale Auftragsabwicklung
DESCRIPTION:Für alle kleinen und mittelständischen Unternehmen in Brandenburg, die sich in Sachen Automatisierung &amp; Digitalisierung weiterentwickeln wollen.
LOCATION:online
URL:https://www.imi4bb.de/event-details/kmu-sprechstunde-digitale-auftragsabwicklung-4
END:VEVENT
END:VCALENDAR
