BEGIN:VCALENDAR
VERSION:2.0
METHOD:PUBLISH
X-WR-CALNAME;VALUE=TEXT:
PRODID:-//Drupal iCal API//EN
BEGIN:VEVENT
UID:wfbb-event-3041
DTSTAMP:20241118T145942Z
DTSTART:20221209T090000Z
DTEND:20221209T110000Z
SUMMARY:KMU - Sprechstunde: Digitalisierungspotenziale finden
DESCRIPTION:Für alle kleinen und mittelständischen Unternehmen in Brandenburg, die sich in Sachen Automatisierung &amp; Digitalisierung weiterentwickeln wollen.
LOCATION:online
URL:https://www.imi4bb.de/event-details/kmu-sprechstunde-digitalisierungspotenziale-finden-6
END:VEVENT
END:VCALENDAR
