BEGIN:VCALENDAR
VERSION:2.0
METHOD:PUBLISH
X-WR-CALNAME;VALUE=TEXT:
PRODID:-//Drupal iCal API//EN
BEGIN:VEVENT
UID:wfbb-event-3114
DTSTAMP:20240913T114409Z
DTSTART:20230316T070000Z
DTEND:20230316T190000Z
SUMMARY:Tag der Ausbildung 2023 – Metallberufe im Land Brandenburg
DESCRIPTION:Am Tag der Ausbildung 2023 stehen unter dem Motto „Wirtschaft trifft Schule“ die Berufsbilder, Ausbildungs- und Studienmöglichkeiten rund um den Werkstoff Metall im Mittelpunkt. 
LOCATION:online
URL:
END:VEVENT
END:VCALENDAR
