BEGIN:VCALENDAR
VERSION:2.0
METHOD:PUBLISH
X-WR-CALNAME;VALUE=TEXT:
PRODID:-//Drupal iCal API//EN
BEGIN:VEVENT
UID:wfbb-event-3358
DTSTAMP:20240913T114409Z
DTSTART:20230606T080000Z
DTEND:20230606T150000Z
SUMMARY:Circular Economy in Metallberufen
DESCRIPTION:Im EU-ERASMUS+ Projekt mit dem Titel "Circular Economy in Metal Industries` VET CEMIVET" wird ein Onlinekurs für Lehrkräfte entwickelt. Hier geht es um die Vorteile der Circular Economy in Metallberufen mit dem Fokus auf die Auswirkungen für Schweißverfahren.
LOCATION:Fraunhofer Institut für Produktionsanlagen und Konstruktionstechnik IPK Pascalstr. 13-14 10587 Berlin
URL:
END:VEVENT
END:VCALENDAR
