BEGIN:VCALENDAR
VERSION:2.0
METHOD:PUBLISH
X-WR-CALNAME;VALUE=TEXT:
PRODID:-//Drupal iCal API//EN
BEGIN:VEVENT
UID:wfbb-event-3541
DTSTAMP:20240913T114409Z
DTSTART:20240312T130000Z
DTEND:20240312T180000Z
SUMMARY:12. März 2024 Cluster Forum Metall
DESCRIPTION:Branchentreff an der TH Wildau
LOCATION:Hochschulring 1 15745 Wildau
URL:
END:VEVENT
END:VCALENDAR
