BEGIN:VCALENDAR
VERSION:2.0
METHOD:PUBLISH
X-WR-CALNAME;VALUE=TEXT:
PRODID:-//Drupal iCal API//EN
BEGIN:VEVENT
UID:wfbb-event-3704
DTSTAMP:20240913T114409Z
DTSTART:20240307T080000Z
DTEND:20240307T103000Z
SUMMARY:Tag der Ausbildung Metall Brandenburg - Perspektiven Schmieden
DESCRIPTION:Entdecke die vielfältigen Metallberufe in Brandenburg! Neun Unternehmen aus verschiedenen Regionen präsentieren sich im Rahmen einer kurzweiligen Online-Veranstaltung und stellen euch gemeinsam mit ihren Auszubildenden in verschiedenen Beiträgen die Zukunftsperspektiven in der Branche vor.
LOCATION:online
URL:
END:VEVENT
END:VCALENDAR
