BEGIN:VCALENDAR
VERSION:2.0
METHOD:PUBLISH
X-WR-CALNAME;VALUE=TEXT:
PRODID:-//Drupal iCal API//EN
BEGIN:VEVENT
UID:wfbb-event-4357
DTSTAMP:20251015T161529Z
DTSTART:20251124T100000Z
DTEND:20251128T160000Z
SUMMARY:Transfer Week Berlin-Brandenburg 2025
DESCRIPTION:Die Transfer Week vernetzt Wissenschaft, Wirtschaft und Start-ups in der Hauptstadtregion, um Innovationen voranzutreiben und Kooperationen zu fördern. Geboten werden spannende Konferenzen, Matchmaking, Partner-Events und vielfältige Möglichkeiten zum Austausch.
LOCATION:
URL:https://www.b2match.com/e/transfer-week-berlin-brandenburg-2025
END:VEVENT
END:VCALENDAR
